BEGIN:VCALENDAR
VERSION:2.0
CALSCALE:GREGORIAN
PRODID:adamgibbons/ics
METHOD:PUBLISH
X-PUBLISHED-TTL:PT1H
BEGIN:VEVENT
UID:536@tucsontimeline.info
SUMMARY:TASC- DANCE PARTY
DTSTAMP:20260423T012344Z
DTSTART:20260321T160000Z
DTEND:20260321T190000Z
DESCRIPTION:The Tucson Abortion Support Collective invites you to our Equin
	ox AM Dance Party\n—to groove and gather- a morning of movement\, connecti
	on\, and mutual aid.\n\nWe’ll begin with a grounding group meditation and 
	standing yoga to welcome the\nnew season. Then Miss Abysmal will spin funk
	y\, feel-good grooves to get your\nbooty shaking. Enjoy live painting\, vi
	brant energy\, and space to cathartically\nconnect in joy.\n\nWe’re partne
	ring with Parch and Club Congress to serve up delicious\nnon-alcoholic coc
	ktails so everyone can celebrate fully.\n\nCome honor the changing of the 
	season and welcome spring with us.\n\nWear your best spring attire — think
	 pastels\, florals\, and fresh energy.\n\nDance. Gather. Celebrate.\n\nSup
	port life-saving health care and abortion access in our community.
URL:https://tucsontimeline.info/event/tasc-dance-party
LOCATION:Club Congress - 311 East Congress St.
STATUS:CONFIRMED
CATEGORIES:abortion,activism,art,dance,mutual aid
X-ALT-DESC;FMTTYPE=text/html:<p>The Tucson Abortion Support Collective invi
	tes you to our Equinox AM Dance Party —to groove and gather- a morning of 
	movement, connection, and mutual aid.</p><p>We’ll begin with a grounding g
	roup meditation and standing yoga to welcome the new season. Then Miss Aby
	smal will spin funky, feel-good grooves to get your booty shaking. Enjoy l
	ive painting, vibrant energy, and space to cathartically connect in joy.</
	p><p>We’re partnering with Parch and Club Congress to serve up delicious n
	on-alcoholic cocktails so everyone can celebrate fully.</p><p>Come honor t
	he changing of the season and welcome spring with us.</p><p>Wear your best
	 spring attire — think pastels, florals, and fresh energy.</p><p>Dance. Ga
	ther. Celebrate.</p><p>Support life-saving health care and abortion access
	 in our community.</p>
END:VEVENT
BEGIN:VEVENT
UID:328@tucsontimeline.info
SUMMARY:Hallows at Club Congress
DTSTAMP:20260423T012344Z
DTSTART:20250711T020000Z
DESCRIPTION:Thursday July 10th (VENUE CHANGE) now at @clubcongress\n[https:
	//www.instagram.com/clubcongress/] ⚔️⛓️💀 @nitecallpresents\n[https://www.ins
	tagram.com/nitecallpresents/] & @desertdronetucson\n[https://www.instagram
	.com/desertdronetucson/] bring you a night of darkwave /\npost punk / ebm 
	/ experimental electronics featuring @hallows_band\n[https://www.instagram
	.com/hallows_band/] + @sleek_teeth\n[https://www.instagram.com/sleek_teeth
	/] teeth LIVE on tour from L.A. w/ DJ sets\nby AZ's own\, @_mijito_ [https
	://www.instagram.com/_mijito_/]!\n\nTickets on sale now: LINK IN OUR BIO.\
	n\n$12 (advanced) / $15 (at the door)\n7:30PM (doors) / 8PM (show)\n21+ / 
	311 E Congress St\, Tucson\, AZ 85701
URL:https://tucsontimeline.info/event/hallows-at-club-congress
LOCATION:Club Congress - 311 East Congress St.
STATUS:CONFIRMED
CATEGORIES:
X-ALT-DESC;FMTTYPE=text/html:<p>Thursday July 10th (VENUE CHANGE) now at <a
	 target="_blank" href="https://www.instagram.com/clubcongress/">@clubcongr
	ess</a> ⚔️⛓️💀 <a target="_blank" href="https://www.instagram.com/nitecallpre
	sents/">@nitecallpresents</a> &amp; <a target="_blank" href="https://www.i
	nstagram.com/desertdronetucson/">@desertdronetucson</a> bring you a night 
	of darkwave / post punk / ebm / experimental electronics featuring <a targ
	et="_blank" href="https://www.instagram.com/hallows_band/">@hallows_band</
	a> + <a target="_blank" href="https://www.instagram.com/sleek_teeth/">@sle
	ek_teeth</a> teeth LIVE on tour from L.A. w/ DJ sets by AZ's own, <a targe
	t="_blank" href="https://www.instagram.com/_mijito_/">@_mijito_</a>!<br><b
	r>Tickets on sale now: LINK IN OUR BIO.<br><br>$12 (advanced) / $15 (at th
	e door)<br>7:30PM (doors) / 8PM (show)<br>21+ / 311 E Congress St, Tucson,
	 AZ 85701</p>
END:VEVENT
END:VCALENDAR
